BEGIN:VCALENDAR
VERSION:2.0
PRODID:-//360 Alumni//Providence Academy//EN
METHOD:REQUEST
BEGIN:VEVENT
UID:9990
DTSTAMP:20230419T170000Z
DTSTART:20230419T170000Z
DTEND:20230419T174500Z
LOCATION:Lecture Hall,  Providence Academy
SUMMARY: Onboarding the Class of 2023 to our Alumni Program!
DESCRIPTION: Seeking alumni volunteers to help welcome the Class of 2023 into our alumni base before they graduate! We will give them an overview of alumni events and get them set up on Alumni360. We also invite you to attend our College Day Luncheon before the alumni session.&nbsp;Please contact&nbsp;Katarina Greenwood&nbsp;if you are interested in helping this year.
END:VEVENT
END:VCALENDAR
