BEGIN:VCALENDAR
VERSION:2.0
PRODID:-//360 Alumni//Providence Academy//EN
METHOD:REQUEST
BEGIN:VEVENT
UID:9987
DTSTAMP:20230424T214500Z
DTSTART:20230424T214500Z
DTEND:20230424T214500Z
LOCATION:La Pizza and La Pasta, Eataly Boston
SUMMARY: Providence Alumni Dinner ~ Boston, Massachusetts
DESCRIPTION: Inviting all Providence Academy Alumni living in or near Boston to join Mrs. Sarah Hogan, Director of College Counseling and Alumni Engagement, for an alumni dinner. Enjoy reconnecting with fellow alums, meeting new PA alumni in your city and hearing news of your first Alma Mater."Boston Area Lions!&nbsp;I am excited to host an alumni dinner in conjunction with my College Counselor Fly-In to visit Boston area universities. I'm looking forward to seeing you soon!"Dinner will be at 5:45pm Monday April 24th at La Pizza and La Pasta&nbsp;in Eataly, Boston.Please RSVP for yourself and a guest by April 19th.Know of others in the area? Encourage them to update their contact info. within this 360 Platform or contact Katarina Greenwood (katarina.greenwood@providenceacademy.org).
END:VEVENT
END:VCALENDAR
