BEGIN:VCALENDAR
VERSION:2.0
PRODID:-//360 Alumni//Providence Academy//EN
METHOD:REQUEST
BEGIN:VEVENT
UID:9978
DTSTAMP:20230316T191500Z
DTSTART:20230316T191500Z
DTEND:20230316T203000Z
LOCATION:PA Lecture Hall
SUMMARY: Networking & Personal Brand - Alumni Presentation for PA Juniors
DESCRIPTION: Seeking alumni to share your experience of networking and building a personal brand with current juniors. This is the second year of presenting on this topic to students and last year it was very well received. Please contact Katarina Greenwood&nbsp;if you are interested in helping this year.
END:VEVENT
END:VCALENDAR
