BEGIN:VCALENDAR
VERSION:2.0
PRODID:-//360 Alumni//Providence Academy//EN
METHOD:REQUEST
BEGIN:VEVENT
UID:9927
DTSTAMP:20230530T230000Z
DTSTART:20230530T230000Z
DTEND:20230531T010000Z
LOCATION:Rush Creek Golf Club (Skye Room)
SUMMARY: Lifelong Lions Parent Reception (Class of 2023)
DESCRIPTION: Join Headmaster, Dr. Todd Flanders, and Chairman of the Board, Mr. Robert Cummins, at Rush Creek on May 30 for appetizers and drinks as we celebrate all that your child has accomplished at Providence Academy. &nbsp;Invited are all parents of graduating seniors who have been PA students since Pre-K or K,true "Lifelong Lions."&nbsp;Please direct questions about the event to Sarah Hogan, Director of Alumni Engagement, at 763-258-5508 or to Katarina Greenwood, Manager of Alumni Engagement, at 763-258-2562.
END:VEVENT
END:VCALENDAR
