BEGIN:VCALENDAR
VERSION:2.0
PRODID:-//360 Alumni//Providence Academy//EN
METHOD:REQUEST
BEGIN:VEVENT
UID:9926
DTSTAMP:20230304T143000Z
DTSTART:20230304T143000Z
DTEND:20230304T180000Z
LOCATION:Providence Academy – Chapel & Antiquities Gallery
SUMMARY: Lenten Men's Retreat
DESCRIPTION: Providence Academy invites all PA Fathers, Grandfathers, and Alumni to attend our annual Lenten Men&rsquo;s Retreat. Fathers are also welcome to bring their 8th-12th Grade PA sons.Saturday, March 4, 2023Providence Academy &ndash; Chapel &amp; Antiquities Gallery8:30am: Mass9:00am &ndash; 11:45am: ProgramProvidence Academy Chaplain, Fr. Michael McClellan, and Fr. TJ McKenzie, Pastor at Church of St. Pius X Catholic Church in White Bear Lake, will lead a morning of prayer, scripture study, conversation, and fellowship, and will include mass, confession, and adoration.Coffee, Juice, and continental breakfast will be provided.&nbsp;&nbsp;RSVP here today!Contact Mrs. Jennifer Newman, Assistant Director of Development, with any questions at&nbsp;Jennifer.Newman@providenceacademy.org&nbsp;or (763) 258-2580.
END:VEVENT
END:VCALENDAR
