BEGIN:VCALENDAR
VERSION:2.0
PRODID:-//360 Alumni//Providence Academy//EN
METHOD:REQUEST
BEGIN:VEVENT
UID:9923
DTSTAMP:20230429T220000Z
DTSTART:20230429T220000Z
DTEND:20230429T220000Z
LOCATION:Providence Academy
SUMMARY: Providence Academy Gala
DESCRIPTION: Save the date for the 2023 Providence Academy GalaA Royal BallSaturday April 29th&nbsp;Evening's Program5:00pm -&nbsp;Mass with Reverend Michael McClennan - Chapel5:30pm -&nbsp;Check-in, Social, Silent Auction &amp; Games - PAC Lobby and Cloister7:00pm -&nbsp;Dinner, Raffle &amp; Live Auction - Great Room9:00pm - Dueling Pianos - DJ &amp; Live Music, Dancing, Cigars, &amp; Campfires - Great Room &amp; Courtyard&nbsp;Tickets will go on sale April 1st and are expected to sell out again this year!
END:VEVENT
END:VCALENDAR
