BEGIN:VCALENDAR
VERSION:2.0
PRODID:-//360 Alumni//Providence Academy//EN
METHOD:REQUEST
BEGIN:VEVENT
UID:9854
DTSTAMP:20230316T203000Z
DTSTART:20230316T203000Z
DTEND:20230316T220000Z
LOCATION:N319 (Mr. Schmalzbauer's Classroom), Providence Academy
SUMMARY: Alumni in Law Forum, hosted by PA Mock Trial students
DESCRIPTION: The PA Mock Trial Club is inviting all Alumni practicing law or studying law to participate in the Alumni in Law Forum. Come back to PA (or join-in online) to share your experiences and wisdom with PA students interested in law.Student-moderated panel will take place from 3:30-4:30 in Mr. Schmalzbauer's Room (N319) and we also welcome online participants. Following the panel, we invite all participants to a reception in the College Center for a chance to connect with other alumni in law.To participate in the panel, please register via 360. Contact Katarina Greenwood with questions.
END:VEVENT
END:VCALENDAR
