BEGIN:VCALENDAR
VERSION:2.0
PRODID:-//360 Alumni//Providence Academy//EN
METHOD:REQUEST
BEGIN:VEVENT
UID:9781
DTSTAMP:20230125T233000Z
DTSTART:20230125T233000Z
DTEND:20230126T010000Z
LOCATION:The Palm Restaurant
SUMMARY: Chicago Alumni Dinner
DESCRIPTION: What: Providence Academy Alumni Dinner with Dr. FlandersWhen: 5:30-7pm on Wednesday, January 25 Where: The Palm Restaurant (Swissotel) ChicagoA note from Dr. Flanders:"Hey Chicago PA Lions!&nbsp;I am excited to join you for dinner in January, in conjunction with the ISACS Heads of School Conference.&nbsp; What a delight this will be for me, and an honor.&nbsp; God bless you all.&nbsp; And...see you soon!"Please RSVP for yourself and a guest by January 23rd!Update - Check out the menu for our event:Hors D'oeuvres -&nbsp;Jumbo Shrimp Bruno,&nbsp;Cherry Tomato &amp; Mozzarella SkewerSoups &amp; Salads -&nbsp;The Palm Caesar Salad,&nbsp;Soup of the DayEntr&eacute;es -&nbsp;Center-Cut Filet Mignon 6oz.,&nbsp;Chicken Parmigiana,&nbsp;Chef's Catch of the DayVegetables &amp; Potatoes -&nbsp;Garlic Mashed Potatoes,&nbsp;Green BeansDessert Duo - Palm Zeppoles &amp; Cannoli Duo
END:VEVENT
END:VCALENDAR
