BEGIN:VCALENDAR
VERSION:2.0
PRODID:-//360 Alumni//Providence Academy//EN
METHOD:REQUEST
BEGIN:VEVENT
UID:11750
DTSTAMP:20260529T170000Z
DTSTART:20260529T170000Z
DTEND:20260529T191500Z
LOCATION:Blvd Kitchen
SUMMARY: Graduation Night Alumni Reception
DESCRIPTION: Please join Dr.&nbsp;Flanders, members of the Board of Directors, founding-era faculty, and the Alumni Office&nbsp;for an appetizer reception on Friday, May 29th.We will celebrate the many ways Providence alumni have shared their time and talents with our community and&nbsp;honor our 2026 commencement speaker Nick Olson '07.Enjoy heavy hors d'oeuvres and beverages at Blvd Kitchen  at 5:00pm, between the Baccalaureate Mass at the Cathedral of St. Paul and Graduation Ceremony at Providence Academy.We are so grateful for the many ways alumni continue to share their talents.&nbsp;Providence truly wouldn't be the special place that it is without our alumni.Please RSVP&nbsp;for yourself and a guest here on Alumni360.
END:VEVENT
END:VCALENDAR
