BEGIN:VCALENDAR
VERSION:2.0
PRODID:-//360 Alumni//Providence Academy//EN
METHOD:REQUEST
BEGIN:VEVENT
UID:11747
DTSTAMP:20260509T140000Z
DTSTART:20260509T140000Z
DTEND:20260509T140000Z
LOCATION:Providence Academy
SUMMARY: Ladies Spring Tea at Providence
DESCRIPTION: Inviting all&nbsp;alumnae and mothers of alumni to a spring tea!We will enjoy tea &amp; refreshments on the lovely open-air Art Plaza (part of the new addition!)Please register here on Alumni360 - hope you can make it!
END:VEVENT
END:VCALENDAR
