BEGIN:VCALENDAR
VERSION:2.0
PRODID:-//360 Alumni//Providence Academy//EN
METHOD:REQUEST
BEGIN:VEVENT
UID:11745
DTSTAMP:20260526T180000Z
DTSTART:20260526T180000Z
DTEND:20260526T200000Z
LOCATION:Rush Creek - Skye Room
SUMMARY: Reception for Parents of Lifelong Lions
DESCRIPTION: Join Headmaster, Dr. Todd Flanders, and Chairman of the Board, Mr. Robert Cummins,&nbsp;at Rush Creek on Tuesday May 26th for hors d'oeuvres and beverages. We will celebrate&nbsp;all that your child&nbsp;has accomplished at Providence and reminisce of memories of the Providence Academy community.&nbsp;Invited are all parents of graduating seniors who have been PA students since Pre-K or K,&nbsp;true "Lifelong Lions."&nbsp;&nbsp;Please direct questions about the event to the Alumni team, Mrs. Sarah Hogan, Director of Alumni Engagement, at 763-258-5508 or to Katarina Greenwood, Manager of Alumni Engagement, at 763-258-2562.
END:VEVENT
END:VCALENDAR
