BEGIN:VCALENDAR
VERSION:2.0
PRODID:-//360 Alumni//Providence Academy//EN
METHOD:REQUEST
BEGIN:VEVENT
UID:11744
DTSTAMP:20260521T090000Z
DTSTART:20260521T090000Z
DTEND:20260521T103000Z
LOCATION:Providence Academy Board Room
SUMMARY: Senior Parent Coffee and Conversation with Mrs. Joan Cummins
DESCRIPTION: Senior Moms!Please join PA Co-Founder (and Mother of Nine PA Lions), Joan Cummins, on Thursday, May 21 at 9:00 AM, for an informal coffee and conversation on the timely topic of "Wisdom for Parents of Seniors Going to College&rdquo;.&nbsp; Whether it is helping your student settle in on campus, supporting him or her from afar (or close by), or adjusting to the changes at home, there is much to discuss.&nbsp; We are grateful to Mrs. Cummins for leading this discussion, sponsored by the College Counseling/Alumni Engagement Office. Coffee and pastries will be served in the Providence Academy Board Room.
END:VEVENT
END:VCALENDAR
