BEGIN:VCALENDAR
VERSION:2.0
PRODID:-//360 Alumni//Providence Academy//EN
METHOD:REQUEST
BEGIN:VEVENT
UID:11619
DTSTAMP:20260108T193000Z
DTSTART:20260108T193000Z
DTEND:20260108T203000Z
LOCATION:Providence Academy Performing Arts Center
SUMMARY: Special Visit with the U.S. Secretary of the Treasury
DESCRIPTION: UPDATE: Due to the overwhelming response, we have reached our capacity for this event and have closed registration.&nbsp;Dear Providence Academy Families and Alumni,A truly remarkable opportunity has just been confirmed! The 79th United States Secretary of the Treasury,&nbsp;Scott Bessent, will be visiting Providence Academy tomorrow to speak with our Upper School students.&nbsp;Providence Academy parents and alumni are also invited to join us tomorrow as we welcome Secretary Bessent.Event Details:Date &amp; Time: Thursday, January 8, guests must be seated in the PAC by 1:30pm. Late arrivals may not be seated.&nbsp;Location: Providence Academy Performing Arts Center (PAC)Who may attend: Upper School students and Providence Academy parentsRegistration: All parents must register in advance to attend. Registration is required for entry.Parking &amp; Entry: Please park in the front lots and enter through the PAC doors. Please no bags or backpacks.&nbsp;This special event is&nbsp;only for Upper School students; Lower and Middle School students will not be able to attend.I was moved to learn just yesterday that Secretary Bessent wished, during his brief visit to Minnesota, to have a forum to speak to students. We were delighted to serve as that forum.&nbsp;If you have any questions, please contact us at&nbsp;communications@providenceacademy.orgWe hope you can join us for this unique opportunity to hear from Secretary Bessent!Dr. Todd FlandersHeadmaster&nbsp;
END:VEVENT
END:VCALENDAR
