BEGIN:VCALENDAR
VERSION:2.0
PRODID:-//360 Alumni//Providence Academy//EN
METHOD:REQUEST
BEGIN:VEVENT
UID:11325
DTSTAMP:20250530T220000Z
DTSTART:20250530T220000Z
DTEND:20250530T220000Z
LOCATION:Blvd Kitchen
SUMMARY: Graduation Night Alumni Reception with PA Leaders
DESCRIPTION: Please join Dr.&nbsp;Flanders, members of the Board of Directors, founding-era faculty, alumni, and the Alumni Office&nbsp;for an appetizer reception on Friday, May 30th.We will celebrate the many ways Providence alumni have shared their time and talents with our community and&nbsp;honor our 2025 commencement speaker Ned Kingman '10.Enjoy heavy hors d'oeuvres and beverages at Blvd Kitchen Friday May 30th at 5:00pm, between the Baccalaureate Mass at the Basilica of St. Mary and Graduation ceremony at Providence Academy.We are so grateful for the many ways alumni continue to share their talents.&nbsp;Providence truly wouldn't be the special place that it is without our alumni.Please RSVP&nbsp;for yourself and a guest here on Alumni360.
END:VEVENT
END:VCALENDAR
