BEGIN:VCALENDAR
VERSION:2.0
PRODID:-//360 Alumni//Providence Academy//EN
METHOD:REQUEST
BEGIN:VEVENT
UID:11318
DTSTAMP:20250519T173000Z
DTSTART:20250519T173000Z
DTEND:20250519T173000Z
LOCATION:Providence Academy
SUMMARY: Congratulate our Seniors with Cupcakes & Gift and Stay for Lunch!
DESCRIPTION: Inviting all college-aged alumni to celebrate our seniors with a gift and cupcakes and to stay for lunch!Last year we gifted our seniors with a PA travel mug and Nadia Cakes cupcakes on Senior Sweatshirt Day. We are excited to do the same this year and would like to make it even more exciting by inviting recent graduates to join us in handing out the cupcakes &amp; mugs. Alumni, join in the festivity by wearing your college sweatshirt or t-shirt as well!Please arrive around 12:30 to help hand out cupcakes and gifts at 12:45. Afterwards, at 1:00 PM we invite you to stay for lunch and say hello to faculty.Spread the word to fellow alumni! Please let us know if you (and your friends) will be coming here on 360Alumni.
END:VEVENT
END:VCALENDAR
