BEGIN:VCALENDAR
VERSION:2.0
PRODID:-//360 Alumni//Providence Academy//EN
METHOD:REQUEST
BEGIN:VEVENT
UID:11317
DTSTAMP:20250503T230000Z
DTSTART:20250503T230000Z
DTEND:20250503T230000Z
LOCATION:Cloister at Providence Academy
SUMMARY: Reception Prior to Spring Musical: Newsies!
DESCRIPTION: Providence Academy Upper School Students Present Newsies!Performances will be Thursday May 1st, Friday May 2nd &amp; Saturday May 3rd at 7:00pm and Sunday May 4th at 2:00pm.&nbsp;Inviting all alumni &amp; parents of alumni to a reception in the cloister at 6:00 PM before the Saturday evening show!Reminisce with fellow alumni &amp; parents of alumni on past shows and theatre memories over appetizers and beverages.&nbsp;Please register here on Alumni360 for the reception and buy show tickets here.Alumni should select "Senior/Student" for a discounted $10 ticket.
END:VEVENT
END:VCALENDAR
