BEGIN:VCALENDAR
VERSION:2.0
PRODID:-//360 Alumni//Providence Academy//EN
METHOD:REQUEST
BEGIN:VEVENT
UID:11316
DTSTAMP:20250527T230000Z
DTSTART:20250527T230000Z
DTEND:20250528T010000Z
LOCATION:Skye Room at Rush Creek Golf Club, Maple Grove
SUMMARY: Reception for Parents of Lifelong Lions - Class of 2025
DESCRIPTION: Join Headmaster, Dr. Todd Flanders, and Chairman of the Board, Mr. Robert Cummins,at Rush Creek on Tuesday May 27th for hors d'oeuvres and beverages. We will celebrateall that your child&nbsp;has accomplished and reminisce of memories of the Providence Academy community.&nbsp;Invited are all parents of graduating seniors who have been PA students since Pre-K or K,true "Lifelong Lions."&nbsp;Please direct questions about the event to the Alumni team, Mrs. Sarah Hogan, Director of Alumni Engagement, at 763-258-5508 or to Katarina Greenwood, Manager of Alumni Engagement, at 763-258-2562.
END:VEVENT
END:VCALENDAR
