BEGIN:VCALENDAR
VERSION:2.0
PRODID:-//360 Alumni//Providence Academy//EN
METHOD:REQUEST
BEGIN:VEVENT
UID:11289
DTSTAMP:20250426T210000Z
DTSTART:20250426T210000Z
DTEND:20250426T210000Z
LOCATION:Providence Academy
SUMMARY: Providence Academy Gala - Alumni Tickets only $75!
DESCRIPTION: Join the entire Providence Academy Community at the 24th Annual Gala!Alumni Tickets are only $75Saturday April 26th starting at 4:00pmThis formal event will feature Mass, a silent auction, cocktail hour with games, a live auction, a DJ &amp; dancing, the cigar tent and all you would expect from this fantastic annual event!Click here for more information &amp; to buy tickets
END:VEVENT
END:VCALENDAR
