BEGIN:VCALENDAR
VERSION:2.0
PRODID:-//360 Alumni//Providence Academy//EN
METHOD:REQUEST
BEGIN:VEVENT
UID:11248
DTSTAMP:20250315T230000Z
DTSTART:20250315T230000Z
DTEND:20250315T230000Z
LOCATION:William's Arena - U of M
SUMMARY: Girls Basketball State Tournament
DESCRIPTION: The Girls Basketball Team has advanced to the State Semi-Final game tomorrow night! They will play against Minnewaska at 6:00pm at Williams Arena.Purchase tickets to the semi-final game hereIf the Lions win tomorrow's game, the girls will play in the State Championship Game this Saturday at 6:00pm!If the Lions advance to the championship game Saturday, we will offer free tickets to all alumni spectators. Register for a "free ticket" here on Alumni360 anytime from now until 11am Saturday morning. If they make it to the State Championship game Saturday, we will buy tickets using the email address you enter on Alumni360.And see the full tournament bracket here
END:VEVENT
END:VCALENDAR
