BEGIN:VCALENDAR
VERSION:2.0
PRODID:-//360 Alumni//Providence Academy//EN
METHOD:REQUEST
BEGIN:VEVENT
UID:11219
DTSTAMP:20250311T203000Z
DTSTART:20250311T203000Z
DTEND:20250311T213000Z
LOCATION:Lecture Hall, Providence Academy & remotely via Google Meet
SUMMARY: Alumni in Healthcare Panel - PA Medical Club
DESCRIPTION: We're looking for alumni to share your experiences of working in and studying healthcare related fields with students in the PA medical club. Alumni can join in person or virtually so that students can hear from out of state alumni as well!The panel will be in the PA lecture hall from 3:30-4:30pm Tuesday March 11th.Please register on Alumni360 or email Katarina Greenwood (katarina.greenwood@providenceacademy.org) if you're able to share of your time in this way!
END:VEVENT
END:VCALENDAR
