BEGIN:VCALENDAR
VERSION:2.0
PRODID:-//360 Alumni//Providence Academy//EN
METHOD:REQUEST
BEGIN:VEVENT
UID:11136
DTSTAMP:20250201T180000Z
DTSTART:20250201T180000Z
DTEND:20250201T210000Z
LOCATION:Pints & Paddles - Maple Grove
SUMMARY: Pickleball Palooza
DESCRIPTION: Join us February 1st for the debut&nbsp;Providence Academy Alumni Pickleball Palooza!Event includes a steak sandwich buffet lunch. Pickleball skill nor paddles required.Find a partner (or sign up solo) and register! This is almost certainly the most fun you will have in February!&nbsp;February 1st from&nbsp;12:00 PM - 3:00 PMPints &amp; Paddles, Maple GroveBrought to you by the Pickleball Palooza Planning Team: Luke Sturm '18, Kole Derosier '18, Kasner Sturm '18, Kasia Tawil '13, John Bros '08,&nbsp;Hadley Hornig '07,&nbsp;Katie Lahti '06Contact Katarina Greenwood, Manager of Alumni Engagement, with questions.
END:VEVENT
END:VCALENDAR
