BEGIN:VCALENDAR
VERSION:2.0
PRODID:-//360 Alumni//Providence Academy//EN
METHOD:REQUEST
BEGIN:VEVENT
UID:11118
DTSTAMP:20250130T170000Z
DTSTART:20250130T170000Z
DTEND:20250130T170000Z
LOCATION:Rohr's (Morris Inn) at Notre Dame
SUMMARY: Notre Dame PA Alumni Lunch at Rohr's
DESCRIPTION: We are coming to Notre Dame! Inviting all our PA Alumni at Notre Dame to join Sarah Hogan &amp; Katarina Greenwood for lunch!Rohr's Restaurant -&nbsp;January 30th at noon Please R.S.V.P. here on 360 or by emailing katarina.greenwood@providenceacademy.org
END:VEVENT
END:VCALENDAR
