BEGIN:VCALENDAR
VERSION:2.0
PRODID:-//360 Alumni//Providence Academy//EN
METHOD:REQUEST
BEGIN:VEVENT
UID:11117
DTSTAMP:20250129T233000Z
DTSTART:20250129T233000Z
DTEND:20250130T033000Z
LOCATION:The Palm Restaurant (Swissotel Chicago)
SUMMARY: 3rd Annual Chicago Alumni Dinner
DESCRIPTION: What: Providence Academy Alumni Dinner with Dr. Flanders and the Alumni TeamWhen:&nbsp;5:30-9:30 p.m. on Wednesday, January 29, 2025Where: The Palm Restaurant (Swissotel) ChicagoInviting all Providence Academy Alumni living in or near Chicago to join Dr. Flanders and Mrs. Sarah Hogan (Alumni Director) for a our third annual Chicago alumni dinner. Reconnect with fellow alums, meet new PA alumni in your area and receive updates from your first Alma Mater.From Dr. Flanders: "Chicago area Lions! We are excited to host our 3rd&nbsp;Annual Chicago Alumni Dinner in in conjunction with my ISACS Heads Conference in Chicago. We are looking forward to seeing you soon!"Drinks/appetizers will start at 5:30pm at the Palm Restaurant, Swissotel Chicago.Please RSVP for yourself and a guest by January 21st.Know of others in the area? Encourage them to update their contact info. within this 360 Platform or contact Alumni Manager, Katarina Greenwood (katarina.greenwood@providenceacademy.org).
END:VEVENT
END:VCALENDAR
