BEGIN:VCALENDAR
VERSION:2.0
PRODID:-//360 Alumni//Providence Academy//EN
METHOD:REQUEST
BEGIN:VEVENT
UID:11109
DTSTAMP:20250108T202500Z
DTSTART:20250108T202500Z
DTEND:20250108T211500Z
LOCATION:Performing Arts Center, Providence Academy
SUMMARY: Home From College Alumni Panel
DESCRIPTION: Calling all current undergrads to come back to PA and share your advice about the college transition with students!The Alumni Home from College Panel will take place January 8th from 2:25-3:15pm in the PAC. 
END:VEVENT
END:VCALENDAR
