BEGIN:VCALENDAR
VERSION:2.0
PRODID:-//360 Alumni//Providence Academy//EN
METHOD:REQUEST
BEGIN:VEVENT
UID:11100
DTSTAMP:20241218T180000Z
DTSTART:20241218T180000Z
DTEND:20241218T180000Z
LOCATION:Providence Academy
SUMMARY: Alumni Lunch - Christmas Break
DESCRIPTION: Inviting all young alumni to stop by PA as you're home from college to enjoy a complimentary lunch and reconnect with your favorite teachers before PA's Christmas break!Join us in the Great Room (northwest corner) at 12:00 on Wednesday, December 18th!Please RSVP!
END:VEVENT
END:VCALENDAR
