BEGIN:VCALENDAR
VERSION:2.0
PRODID:-//360 Alumni//Providence Academy//EN
METHOD:REQUEST
BEGIN:VEVENT
UID:11083
DTSTAMP:20241224T003000Z
DTSTART:20241224T003000Z
DTEND:20241224T003000Z
LOCATION:PIC Rink C - Plymouth Ice  Center
SUMMARY: Alumni Hockey Game
DESCRIPTION: Get ready for the Annual PA Alumni Hockey Game!Play against your old teammates and fellow alumni and bring your family to watch in the stands.Monday December 23rd at 6:30 PMWe have ice from 6:30 - 7:45 PM at PIC CPlease RSVP on Alumni360 and contact Cari Doucette with questions at 763-442-4484 or caridoucette@yahoo.com
END:VEVENT
END:VCALENDAR
