BEGIN:VCALENDAR
VERSION:2.0
PRODID:-//360 Alumni//Providence Academy//EN
METHOD:REQUEST
BEGIN:VEVENT
UID:11058
DTSTAMP:20241116T233000Z
DTSTART:20241116T233000Z
DTEND:20241117T020000Z
LOCATION:Chez Flanders
SUMMARY: Alumni Leadership Dinner Hosted by Dr. Todd Flanders
DESCRIPTION: You are invited to join us for a&nbsp;very special dinner hosted by Dr. Flanders at his home in gratitude for each of your contributions and/or interest in our ongoing efforts to more effectively engage our alumni, including an update on the work of the ISACS Accreditation Committee on Alumni. Details are as follows:&nbsp;WHAT: Alumni Leadership DinnerDATE: Saturday, November 15 from 5:30-8:30 p.m.HOST: Dr. Todd&nbsp;Flanders (and the Alumni Team!),&nbsp;5655 Sycamore Lane North, Plymouth, Minnesota 55442Please contact Mrs. Sarah Hogan, Director of College and Alumni Engagement with any questions at sarah.hogan@providenceacademy.org
END:VEVENT
END:VCALENDAR
