BEGIN:VCALENDAR
VERSION:2.0
PRODID:-//360 Alumni//Providence Academy//EN
METHOD:REQUEST
BEGIN:VEVENT
UID:11048
DTSTAMP:20241102T000000Z
DTSTART:20241102T000000Z
DTEND:20241102T000000Z
LOCATION:US Bank Stadium
SUMMARY: Girls Soccer State Championship Game at US Bank Stadium
DESCRIPTION: Congratulations to the Girls Soccer Team for advancing to the State Championship Game! They will play at US Bank Stadium&nbsp;at 7:15PM&nbsp;this Friday!We want to PACK THE STANDS so will offer free tickets to all alumni spectators.Register for a "free ticket" here on Alumni360 anytime from now until 2:00pm Friday afternoon. We will buy tickets using the email address you enter on Alumni360.
END:VEVENT
END:VCALENDAR
