BEGIN:VCALENDAR
VERSION:2.0
PRODID:-//360 Alumni//Providence Academy//EN
METHOD:REQUEST
BEGIN:VEVENT
UID:11044
DTSTAMP:20241213T010000Z
DTSTART:20241213T010000Z
DTEND:20241213T030000Z
LOCATION:Performing Arts Center Lobby
SUMMARY: Christmas Reception for Parents of Alumni
DESCRIPTION: Inviting all parents of alumni back to Providence to reconnect, share news, exchange advent wishes and reminisce on PA memories. Enjoy desserts and beverages in the festive Performing Arts Center Lobby Thursday December 12th from 7:00-9:00 p.m.Please spread the word and extend an invitation to any parents of alumni who may not have heard of the event. Kindly RSVP by December 10th.&nbsp;Hosted by: Dr. Flanders and the PA Alumni Office (Sarah Hogan and Katarina Greenwood)
END:VEVENT
END:VCALENDAR
