BEGIN:VCALENDAR
VERSION:2.0
PRODID:-//360 Alumni//Providence Academy//EN
METHOD:REQUEST
BEGIN:VEVENT
UID:11041
DTSTAMP:20241222T000000Z
DTSTART:20241222T000000Z
DTEND:20241222T033000Z
LOCATION:Providence Academy
SUMMARY: 11th Annual Alumni Christmas Party
DESCRIPTION: 'Tis the Season! Providence's annual Alumni Christmas party is back!In addition to delicious food and drink, the casino game tables&nbsp;and raffle prizes will be back by popular demand! As always, there is no cost to play/attend. It will be a delightful evening of reconnecting and reminiscing with former classmates and faculty, hot and cold hors d'oeuvres,&nbsp;Dr. Flanders's Cigar Patio,&nbsp;and games all in the Great Room decked for Christmas!Saturday December 21st 6:00-9:30pmSpread the word and R.S.V.P. for yourself and a guest by December 19th.Hope to see you there!~ Your Event Hosts Sarah Hogan &amp; Katarina Greenwood
END:VEVENT
END:VCALENDAR
