BEGIN:VCALENDAR
VERSION:2.0
PRODID:-//360 Alumni//Providence Academy//EN
METHOD:REQUEST
BEGIN:VEVENT
UID:11037
DTSTAMP:20241108T000000Z
DTSTART:20241108T000000Z
DTEND:20241108T000000Z
LOCATION:Upstream Brewing Company , Old Market
SUMMARY: Alumni Dinner in Omaha
DESCRIPTION: We're coming to Omaha! We are excited to host a dinner in Omaha for our alumni at Creighton University and the surrounding area. This will also be a chance for current PA students to tour the campus and connect with recent grads currently at Creighton.Upstream Brewing CoThursday November 7th at 6:00pmPlease R.S.V.P. here on 360Alumni and contact katarina.greenwood@providenceacademy.org with questions.
END:VEVENT
END:VCALENDAR
