BEGIN:VCALENDAR
VERSION:2.0
PRODID:-//360 Alumni//Providence Academy//EN
METHOD:REQUEST
BEGIN:VEVENT
UID:10942
DTSTAMP:20241020T223000Z
DTSTART:20241020T223000Z
DTEND:20241020T223000Z
LOCATION:Cork & Pig Las Colinas
SUMMARY: Dallas Alumni Dinner
DESCRIPTION: Calling all Lions in the Dallas &amp; Fort Worth area to join Mrs. Sarah Hogan, Dr. Yvonne Boldt and Dr. Todd Flanders for a dinner to reconnect and reminisce!Dinner will be Sunday October 20th at 5:30pm at Cork &amp; Pig Las ColinasPlease R.S.V.P. for yourself and a guest by October 18th.Contact Katarina.Greenwood@providenceacademy.org with any questions.
END:VEVENT
END:VCALENDAR
