BEGIN:VCALENDAR
VERSION:2.0
PRODID:-//360 Alumni//Providence Academy//EN
METHOD:REQUEST
BEGIN:VEVENT
UID:10932
DTSTAMP:20240924T010000Z
DTSTART:20240924T010000Z
DTEND:20240924T010000Z
LOCATION:Mastro's, Newport Beach
SUMMARY: Los Angeles Alumni Dinner
DESCRIPTION: Inviting all Providence Academy Alumni living in or near Los Angeles to join Mrs. Sarah Hogan, Director of College Counseling and Alumni Engagement, for an alumni dinner. Enjoy reconnecting with fellow alums, meeting new PA alumni in your city and hearing news of your first Alma Mater."SoCal Lions!&nbsp;I am excited to host an alumni dinner in conjunction with my NACAC Conference and&nbsp;visits to area universities. I'm looking forward to seeing you soon!"Dinner will be at 6:00 pm Monday, September 23rd at Mastro's - Newport Beach.Please RSVP for yourself and a guest by September 19th.
END:VEVENT
END:VCALENDAR
