BEGIN:VCALENDAR
VERSION:2.0
PRODID:-//360 Alumni//Providence Academy//EN
METHOD:REQUEST
BEGIN:VEVENT
UID:10929
DTSTAMP:20240913T220000Z
DTSTART:20240913T220000Z
DTEND:20240913T220000Z
LOCATION:The Sovereign
SUMMARY: Washington D.C. Alumni Dinner
DESCRIPTION: Inviting all alumni living or studying in the greater Washington D.C. area to join Dr. Flanders&nbsp;for a dinner to reconnect and reminisce!Friday September 13th at 6:00pmThe Sovereign, (Georgetown)Please R.S.V.P. for planning purposes and contact katarina.greenwood@providenceacademy.org with any questions!
END:VEVENT
END:VCALENDAR
