BEGIN:VCALENDAR
VERSION:2.0
PRODID:-//360 Alumni//Providence Academy//EN
METHOD:REQUEST
BEGIN:VEVENT
UID:10868
DTSTAMP:20240731T170000Z
DTSTART:20240731T170000Z
DTEND:20240731T170000Z
LOCATION:Providence Academy Upper School
SUMMARY: College Application Bootcamp - Recent Grad Panel
DESCRIPTION: UPDATE: Panel is full - thank you to our wonderful volunteers!&nbsp;Can you share your experience with incoming seniors? We're looking for recent grads to share advice about applying for colleges, choosing a college, and managing the application process during your senior year.The panel will be Wednesday July 31st at 12:00pm and pizza will be provided.Please register here or email katarina.greenwood@providenceacademy.org if you are interested in participating.
END:VEVENT
END:VCALENDAR
