BEGIN:VCALENDAR
VERSION:2.0
PRODID:-//360 Alumni//Providence Academy//EN
METHOD:REQUEST
BEGIN:VEVENT
UID:10789
DTSTAMP:20240810T211500Z
DTSTART:20240810T211500Z
DTEND:20240810T211500Z
LOCATION:Blvd Kitchen
SUMMARY: Providence Academy 10 Year Reunion
DESCRIPTION: Celebrating the 10 year reunion for the class of 2014Saturday August 10th, 20244:15 pm - School Tour featuring the new build-out5:30 dinner at Blvd KitchenR.S.V.P. for yourself and a plus-one here on 360Alumni
END:VEVENT
END:VCALENDAR
