BEGIN:VCALENDAR
VERSION:2.0
PRODID:-//360 Alumni//Providence Academy//EN
METHOD:REQUEST
BEGIN:VEVENT
UID:10770
DTSTAMP:20240714T000000Z
DTSTART:20240714T000000Z
DTEND:20240714T020000Z
LOCATION:Birches on the Lake - Barrel Room
SUMMARY: Class of 2019 Five Year Reunion
DESCRIPTION: Inviting the PA Class of 2019 to your Five Year Reunion!Join your old classmates for a drink, apps and games (hammershlagen and corn hole) at Birches on the Lake.Saturday July 13th from 7:00-9:00pmPlease RSVP for yourself and a guest on Alumni360Please reach out to Katarina Greenwood, Manager of Alumni Engagement, with questions at katarina.greenwood@providenceacademy.org
END:VEVENT
END:VCALENDAR
