BEGIN:VCALENDAR
VERSION:2.0
PRODID:-//360 Alumni//Providence Academy//EN
METHOD:REQUEST
BEGIN:VEVENT
UID:10754
DTSTAMP:20240812T173000Z
DTSTART:20240812T173000Z
DTEND:20240812T173000Z
LOCATION:Woodhill Country Club
SUMMARY: Providence Academy Lions Cup
DESCRIPTION: 
END:VEVENT
END:VCALENDAR
