BEGIN:VCALENDAR
VERSION:2.0
PRODID:-//360 Alumni//Providence Academy//EN
METHOD:REQUEST
BEGIN:VEVENT
UID:10733
DTSTAMP:20240501T141500Z
DTSTART:20240501T141500Z
DTEND:20240501T141500Z
LOCATION:Marian Shrine (on the southern side of the southeast parking lot)
SUMMARY: Marian Shrine Dedication & May Crowning
DESCRIPTION: Please join us on Wednesday, May 1st&nbsp;for the Dedication of our Marian Shrine &amp; May Crowning ceremony with Bishop Joseph Williams.&nbsp;May is a special month to celebrate Mary as the Queen of Heaven.All guests,&nbsp;please arrive prior to 9:15 a.m.&nbsp;and gather in the southeast lot. The front entrance will be blocked as of 9:15 a.m. for the ceremony.If you are unable to attend, please take an opportunity to visit our newly constructed Shrine to Our Lady of Divine Providence.R.S.V.P. on 360Alumni so we know to look for you, or you are also welcome to just drop in without registering!
END:VEVENT
END:VCALENDAR
