BEGIN:VCALENDAR
VERSION:2.0
PRODID:-//360 Alumni//Providence Academy//EN
METHOD:REQUEST
BEGIN:VEVENT
UID:10693
DTSTAMP:20240427T210000Z
DTSTART:20240427T210000Z
DTEND:20240427T210000Z
LOCATION:Providence Academy
SUMMARY: Providence Academy Gala
DESCRIPTION: Join the entire Providence Academy Community at the 23rd Annual Gala!The event will feature Mass, a silent auction, cocktail hour with games, a live auction, dueling pianos, a DJ &amp; dancing, the cigar tent and all you would expect from this fantastic annual event!&nbsp;This year's theme is the Kentucky DerbyAlumni Tickets are only $75Saturday April 27th starting at 4:00pm
END:VEVENT
END:VCALENDAR
