BEGIN:VCALENDAR
VERSION:2.0
PRODID:-//360 Alumni//Providence Academy//EN
METHOD:REQUEST
BEGIN:VEVENT
UID:10691
DTSTAMP:20240524T173000Z
DTSTART:20240524T173000Z
DTEND:20240524T173000Z
LOCATION:Great Room - Providence Academy
SUMMARY: Back from College - Lunch at PA
DESCRIPTION: Inviting all young alumni to stop by PA as you're home from college to enjoy a complimentary lunch and reconnect with your favorite teachers before summer break!Join us in the Great Room (northwest corner) at 12:30 on Friday May 24th!Tell your friends! Please RSVP!
END:VEVENT
END:VCALENDAR
