BEGIN:VCALENDAR
VERSION:2.0
PRODID:-//360 Alumni//Providence Academy//EN
METHOD:REQUEST
BEGIN:VEVENT
UID:10690
DTSTAMP:20240503T000000Z
DTSTART:20240503T000000Z
DTEND:20240505T190000Z
LOCATION:PA Performing Arts Center
SUMMARY: 2024 Spring Musical: Mary Poppins
DESCRIPTION: Providence Academy Upper School Students Present Mary Poppins!Performances will be Thursday May 2nd at 7:00pm, Friday May 3rd at 7:00pm, Saturday May 4th at 7:00pm and Sunday May 5th at 2:00pm. Running time is about 2 hoursUse the code Alumni2024 for free tickets for all alumni wishing to attend.Tickets available here
END:VEVENT
END:VCALENDAR
