BEGIN:VCALENDAR
VERSION:2.0
PRODID:-//360 Alumni//Providence Academy//EN
METHOD:REQUEST
BEGIN:VEVENT
UID:10637
DTSTAMP:20240417T173000Z
DTSTART:20240417T173000Z
DTEND:20240417T180000Z
LOCATION:Performing Arts Center
SUMMARY: Onboarding the Class of 2024 to Alumni360
DESCRIPTION: We will be onboarding the class of 2024 to the Alumni360 platform and welcoming them into the PA alumni programI am looking for a few alumni who could say a few words about what it means to be an alum and ways you've appreciated staying involved with PA. I'll also give the students an overview of alumni events throughout the year.This will be during College Day April 17th 12:30-1:00pm in the Performing Arts Center.Email Katarina if you'd be able to help welcome the class of 2024 in this way!
END:VEVENT
END:VCALENDAR
