BEGIN:VCALENDAR
VERSION:2.0
PRODID:-//360 Alumni//Providence Academy//EN
METHOD:REQUEST
BEGIN:VEVENT
UID:10636
DTSTAMP:20240316T190000Z
DTSTART:20240316T190000Z
DTEND:20240316T190000Z
LOCATION:Williams Arena, U of M
SUMMARY: Girls Basketball State Tournament
DESCRIPTION: The Girls Basketball Team has advanced to the State Semi-Final game tonight! They will play against Crosby-Ironton at 6:00pm at Williams Arena.Purchase tickets to tonight's game hereIf they win tonight's game, the team will play in the State Championship Game tomorrow afternoon at 2:00pm!If the Lions advance to the championship game tomorrow, we will offer free tickets to all alumni spectators. Register for a "free ticket" here on Alumni360 anytime from now until 11am Saturday morning. If they make it to the State Championship game tomorrow, we will buy tickets using the email address you enter on Alumni360.See the full tournament bracket here
END:VEVENT
END:VCALENDAR
