BEGIN:VCALENDAR
VERSION:2.0
PRODID:-//360 Alumni//Providence Academy//EN
METHOD:REQUEST
BEGIN:VEVENT
UID:10601
DTSTAMP:20240404T203000Z
DTSTART:20240404T203000Z
DTEND:20240404T213000Z
LOCATION:PA Lecture Hall & Online
SUMMARY: Alumni in Healthcare Panel - PA Medical Club
DESCRIPTION: We're looking for alumni to share your experiences of working in and studying healthcare related fields with students in the PA medical club. Alumni can join in person or virtually so that students can hear from out of state alumni as well!The panel will be in the PA lecture hall from 3:30-4:30pm Thursday April 4th.Please register on Alumni360 or email Katarina Greenwood (katarina.greenwood@providenceacademy.org) if you're able to share of your time in this way!
END:VEVENT
END:VCALENDAR
