BEGIN:VCALENDAR
VERSION:2.0
PRODID:-//360 Alumni//Providence Academy//EN
METHOD:REQUEST
BEGIN:VEVENT
UID:10593
DTSTAMP:20240301T170000Z
DTSTART:20240301T170000Z
DTEND:20240301T170000Z
LOCATION:Sitzmann Hall
SUMMARY: Lunch at The University of St. Thomas
DESCRIPTION: We're bringing a group of students on a college visit to the Center for Catholic Studies at The University of St. Thomas and would like to invite our alumni to join us for lunch!Join Mrs. Hogan, Mr. Wolf, Ms. Greenwood, Dr. Naughton, Dr. Boyle and a group of current students&nbsp;for pizza at Sitzmann Hall Friday March 1st at 11:00am.Please spread the word to all PA alumni currently at St. Thomas!
END:VEVENT
END:VCALENDAR
