BEGIN:VCALENDAR
VERSION:2.0
PRODID:-//360 Alumni//Providence Academy//EN
METHOD:REQUEST
BEGIN:VEVENT
UID:10592
DTSTAMP:20240229T180000Z
DTSTART:20240229T180000Z
DTEND:20240229T180000Z
LOCATION:Gorecki Dining Center
SUMMARY: Lunch at St. Ben's
DESCRIPTION: Inviting all our PA alumni at St. Ben's and St John's to join visiting PA students for lunch! Lunch will be at noon at Gorecki Dining Center on the St. Ben's campus Thursday February 29th. Mr. Wolf and Ms. Greenwood will be bringing a small group of PA sophomores and juniors to tour St. John's in the morning and St. Ben's in the afternoon.Hope to see you there!
END:VEVENT
END:VCALENDAR
