BEGIN:VCALENDAR
VERSION:2.0
PRODID:-//360 Alumni//Providence Academy//EN
METHOD:REQUEST
BEGIN:VEVENT
UID:10534
DTSTAMP:20240528T230000Z
DTSTART:20240528T230000Z
DTEND:20240529T010000Z
LOCATION:Rush Creek Golf Club - Skye Room
SUMMARY: Reception for Parents of Lifelong Lions - Class of 2024
DESCRIPTION: Join Headmaster, Dr. Todd Flanders, and Chairman of the Board, Mr. Robert Cummins,at Rush Creek on May 28th for appetizers and drinks as we celebrateall that your child&nbsp;has accomplished at Providence Academy.&nbsp;Invited are all parents of graduating seniors who have been PA students since Pre-K or K,true "Lifelong Lions."&nbsp;Please direct questions about the event to the Alumni team, Mrs. Sarah Hogan, Director of Alumni Engagement, at 763-258-5508 or to Katarina Greenwood, Manager of Alumni Engagement, at 763-258-2562.
END:VEVENT
END:VCALENDAR
