BEGIN:VCALENDAR
VERSION:2.0
PRODID:-//360 Alumni//Providence Academy//EN
METHOD:REQUEST
BEGIN:VEVENT
UID:10501
DTSTAMP:20240126T171500Z
DTSTART:20240126T171500Z
DTEND:20240126T190000Z
LOCATION:Rohr's (at Morris Inn)
SUMMARY: Alumni Lunch at Rohr's (University of Notre Dame)
DESCRIPTION: We're coming to South Bend! We are excited to host a lunch for our alumni at Notre Dame and the surrounding area. This is in conjunction with the Alumni Dinner in Chicago with Dr. Flanders on January 24 and Mrs. Hogan's visit to Notre Dame on January 26.Alumni Lunch at Rohr's at the Morris Inn, University of Notre Dame CampusFriday, January 26 at 12:15 p.m.Contact Mrs. Sarah Hogan with questions or to R.S.V.P. (sarah.hogan@providenceacademy.org)
END:VEVENT
END:VCALENDAR
