BEGIN:VCALENDAR
VERSION:2.0
PRODID:-//360 Alumni//Providence Academy//EN
METHOD:REQUEST
BEGIN:VEVENT
UID:10479
DTSTAMP:20240110T010000Z
DTSTART:20240110T010000Z
DTEND:20240110T023000Z
LOCATION:Providence  Academy & Online
SUMMARY: Bible Study with Dr. Hippler
DESCRIPTION: Inviting all alumni - near and far - to Dr. Hippler's Alumni Bible Study! If you missed the first one, it is not too late to join!The second meeting will be Tuesday January 9th at 7:00pm at Providence Academy and online via Google Meet.We'll meet about once a month to discuss the readings and lectures. In January, we'll be discussing lessons 1, 2, 3 &amp; 4 from the study book, lectures 1, 2, 3 &amp; 4 available here and the pdf attached below. (If you weren't able to make it to the first meeting, the intro lecture would also be helpful)Out of state alumni are invited to participate in the discussion virtually! We will mail you the Study Book. Please let me know if you will be able to make it to this meeting (virtually or in-person) either by registering&nbsp;via 360Alumni or emailing Katarina.Greenwood@providenceacademy.org.
END:VEVENT
END:VCALENDAR
